BEGIN:VCALENDAR
VERSION:2.0
PRODID:-//Central Indiana Democratic Socialists of America - ECPv6.15.18//NONSGML v1.0//EN
CALSCALE:GREGORIAN
METHOD:PUBLISH
X-WR-CALNAME:Central Indiana Democratic Socialists of America
X-ORIGINAL-URL:https://www.centralindsa.org
X-WR-CALDESC:Events for Central Indiana Democratic Socialists of America
REFRESH-INTERVAL;VALUE=DURATION:PT1H
X-Robots-Tag:noindex
X-PUBLISHED-TTL:PT1H
BEGIN:VTIMEZONE
TZID:America/Indiana/Indianapolis
BEGIN:DAYLIGHT
TZOFFSETFROM:-0500
TZOFFSETTO:-0400
TZNAME:EDT
DTSTART:20250309T070000
END:DAYLIGHT
BEGIN:STANDARD
TZOFFSETFROM:-0400
TZOFFSETTO:-0500
TZNAME:EST
DTSTART:20251102T060000
END:STANDARD
BEGIN:DAYLIGHT
TZOFFSETFROM:-0500
TZOFFSETTO:-0400
TZNAME:EDT
DTSTART:20260308T070000
END:DAYLIGHT
BEGIN:STANDARD
TZOFFSETFROM:-0400
TZOFFSETTO:-0500
TZNAME:EST
DTSTART:20261101T060000
END:STANDARD
BEGIN:DAYLIGHT
TZOFFSETFROM:-0500
TZOFFSETTO:-0400
TZNAME:EDT
DTSTART:20270314T070000
END:DAYLIGHT
BEGIN:STANDARD
TZOFFSETFROM:-0400
TZOFFSETTO:-0500
TZNAME:EST
DTSTART:20271107T060000
END:STANDARD
END:VTIMEZONE
BEGIN:VEVENT
DTSTART;TZID=America/Indiana/Indianapolis:20260422T180000
DTEND;TZID=America/Indiana/Indianapolis:20260422T193000
DTSTAMP:20260421T060927
CREATED:20260415T161654Z
LAST-MODIFIED:20260415T161656Z
UID:10003910-1776880800-1776886200@www.centralindsa.org
SUMMARY:Immigrant Organizing Committee Monthly Meeting
DESCRIPTION:
URL:https://www.centralindsa.org/event/immigrant-defense-monthly-meeting-4/
LOCATION:CINDSA Offices (1915 W. 18th St.)\, Hybrid attendance available via Zoom\, 1915 W 18th Street\, Indianapolis\, Indiana
END:VEVENT
BEGIN:VEVENT
DTSTART;TZID=America/Indiana/Indianapolis:20260422T193000
DTEND;TZID=America/Indiana/Indianapolis:20260422T203000
DTSTAMP:20260421T060927
CREATED:20260415T162848Z
LAST-MODIFIED:20260415T163010Z
UID:10004787-1776886200-1776889800@www.centralindsa.org
SUMMARY:By-Laws Reform Working Group Meeting [HYBRID]
DESCRIPTION:Open to all members in good standing. This working group will be reviewing our chapter’s by-laws and discussing ways to improve them\, with the ultimate goal of collectively writing a by-laws reform package in August. Hybrid: In-person at CINDSA Office (1915 W 18th Street\, Indianapolis IN); see Slack for Zoom link.
URL:https://www.centralindsa.org/event/by-laws-reform-working-group-meeting-hybrid/2026-04-22/
END:VEVENT
BEGIN:VEVENT
DTSTART;TZID=America/Indiana/Indianapolis:20260423T190000
DTEND;TZID=America/Indiana/Indianapolis:20260423T200000
DTSTAMP:20260421T060927
CREATED:20260106T201554Z
LAST-MODIFIED:20260107T011348Z
UID:10004351-1776970800-1776974400@www.centralindsa.org
SUMMARY:Solidarity Committee Meeting [VIRTUAL]
DESCRIPTION:Discussing upcoming Solidarity Committee events. See Slack for agenda and Zoom.
URL:https://www.centralindsa.org/event/solidarity-committee-meeting-virtual-2/2026-04-23/
END:VEVENT
BEGIN:VEVENT
DTSTART;TZID=America/Indiana/Indianapolis:20260426T120000
DTEND;TZID=America/Indiana/Indianapolis:20260426T133000
DTSTAMP:20260421T060927
CREATED:20260211T133738Z
LAST-MODIFIED:20260312T170356Z
UID:10003525-1777204800-1777210200@www.centralindsa.org
SUMMARY:Labor Committee Meeting
DESCRIPTION:Central Indiana DSA’s Labor Committee is working to build\, strengthen\, and wield working-class power in Central Indiana by educating our members\, organizing across unions and workplaces\, and mobilizing in solidarity with labor struggles. We aim to fuse socialist principles with labor militancy through sustained strategic engagement\, rooted in the legacy of Eugene V. Debs and the broader international working-class movement.
URL:https://www.centralindsa.org/event/labor-committee-meeting-10/2026-04-26/
END:VEVENT
BEGIN:VEVENT
DTSTART;TZID=America/Indiana/Indianapolis:20260428T190000
DTEND;TZID=America/Indiana/Indianapolis:20260428T200000
DTSTAMP:20260421T060927
CREATED:20260326T151002Z
LAST-MODIFIED:20260326T151049Z
UID:10004714-1777402800-1777406400@www.centralindsa.org
SUMMARY:Steering Committee Meeting [ONLINE]
DESCRIPTION:Regular business meeting of chapter leadership.  Check Slack for Zoom details.
URL:https://www.centralindsa.org/event/steering-committee-meeting-online-2/2026-04-28/
END:VEVENT
BEGIN:VEVENT
DTSTART;TZID=America/Indiana/Indianapolis:20260429T193000
DTEND;TZID=America/Indiana/Indianapolis:20260429T203000
DTSTAMP:20260421T060927
CREATED:20260415T162848Z
LAST-MODIFIED:20260415T163010Z
UID:10004788-1777491000-1777494600@www.centralindsa.org
SUMMARY:By-Laws Reform Working Group Meeting [HYBRID]
DESCRIPTION:Open to all members in good standing. This working group will be reviewing our chapter’s by-laws and discussing ways to improve them\, with the ultimate goal of collectively writing a by-laws reform package in August. Hybrid: In-person at CINDSA Office (1915 W 18th Street\, Indianapolis IN); see Slack for Zoom link.
URL:https://www.centralindsa.org/event/by-laws-reform-working-group-meeting-hybrid/2026-04-29/
END:VEVENT
END:VCALENDAR